BEGIN:VCALENDAR
PRODID:http://www.kufer.de/kuferweb / DE
VERSION:2.0
METHOD:PUBLISH
CALSCALE:GREGORIAN
X-WR-TIMEZONE:Europe/Berlin
BEGIN:VTIMEZONE
TZID:Europe/Berlin
X-LIC-LOCATION:Europe/Berlin
BEGIN:DAYLIGHT
TZOFFSETFROM:+0100
TZOFFSETTO:+0200
TZNAME:CEST
DTSTART;TZID=Europe/Berlin:19700329T020000
RRULE:FREQ=YEARLY;INTERVAL=1;BYDAY=-1SU;BYMONTH=3
END:DAYLIGHT
BEGIN:STANDARD
TZOFFSETFROM:+0200
TZOFFSETTO:+0100
TZNAME:CET
DTSTART;TZID=Europe/Berlin:19701025T030000
RRULE:FREQ=YEARLY;INTERVAL=1;BYDAY=-1SU;BYMONTH=10
END:STANDARD
END:VTIMEZONE
BEGIN:VEVENT
DTSTAMP:20260419T145610
DTSTART;TZID=Europe/Berlin:20260309T143500
DTEND;TZID=Europe/Berlin:20260309T153000
UID:2618501-20260309T143500@VHSWILHELMSHAVEN
SUMMARY:Schwimmkurs - Froschkurs Für Kinder von 4 - 6 Jahren (2618501) 
LOCATION:Schulschwimmbad, Altengroden, Ubbostraße 5, , 
END:VEVENT
BEGIN:VEVENT
DTSTAMP:20260419T145610
DTSTART;TZID=Europe/Berlin:20260311T143500
DTEND;TZID=Europe/Berlin:20260311T153000
UID:2618501-20260311T143500@VHSWILHELMSHAVEN
SUMMARY:Schwimmkurs - Froschkurs Für Kinder von 4 - 6 Jahren (2618501) 
LOCATION:Schulschwimmbad, Altengroden, Ubbostraße 5, , 
END:VEVENT
BEGIN:VEVENT
DTSTAMP:20260419T145610
DTSTART;TZID=Europe/Berlin:20260316T143500
DTEND;TZID=Europe/Berlin:20260316T153000
UID:2618501-20260316T143500@VHSWILHELMSHAVEN
SUMMARY:Schwimmkurs - Froschkurs Für Kinder von 4 - 6 Jahren (2618501) 
LOCATION:Schulschwimmbad, Altengroden, Ubbostraße 5, , 
END:VEVENT
BEGIN:VEVENT
DTSTAMP:20260419T145610
DTSTART;TZID=Europe/Berlin:20260318T143500
DTEND;TZID=Europe/Berlin:20260318T153000
UID:2618501-20260318T143500@VHSWILHELMSHAVEN
SUMMARY:Schwimmkurs - Froschkurs Für Kinder von 4 - 6 Jahren (2618501) 
LOCATION:Schulschwimmbad, Altengroden, Ubbostraße 5, , 
END:VEVENT
END:VCALENDAR