BEGIN:VCALENDAR
PRODID:http://www.kufer.de/kuferweb / DE
VERSION:2.0
METHOD:PUBLISH
CALSCALE:GREGORIAN
X-WR-TIMEZONE:Europe/Berlin
BEGIN:VTIMEZONE
TZID:Europe/Berlin
X-LIC-LOCATION:Europe/Berlin
BEGIN:DAYLIGHT
TZOFFSETFROM:+0100
TZOFFSETTO:+0200
TZNAME:CEST
DTSTART;TZID=Europe/Berlin:19700329T020000
RRULE:FREQ=YEARLY;INTERVAL=1;BYDAY=-1SU;BYMONTH=3
END:DAYLIGHT
BEGIN:STANDARD
TZOFFSETFROM:+0200
TZOFFSETTO:+0100
TZNAME:CET
DTSTART;TZID=Europe/Berlin:19701025T030000
RRULE:FREQ=YEARLY;INTERVAL=1;BYDAY=-1SU;BYMONTH=10
END:STANDARD
END:VTIMEZONE
BEGIN:VEVENT
DTSTAMP:20260419T145605
DTSTART;TZID=Europe/Berlin:20260205T100000
DTEND;TZID=Europe/Berlin:20260205T113000
UID:2614208-20260205T100000@VHSWILHELMSHAVEN
SUMMARY:Englisch - Konversation B1/ B2 (2614208) 
LOCATION:Hans Beutz Haus, Virchowstraße 29; Raum 221, Virchowstraße 29, 26382 Wilhelmshaven
END:VEVENT
BEGIN:VEVENT
DTSTAMP:20260419T145605
DTSTART;TZID=Europe/Berlin:20260212T100000
DTEND;TZID=Europe/Berlin:20260212T113000
UID:2614208-20260212T100000@VHSWILHELMSHAVEN
SUMMARY:Englisch - Konversation B1/ B2 (2614208) 
LOCATION:Hans Beutz Haus, Virchowstraße 29; Raum 221, Virchowstraße 29, 26382 Wilhelmshaven
END:VEVENT
BEGIN:VEVENT
DTSTAMP:20260419T145605
DTSTART;TZID=Europe/Berlin:20260219T100000
DTEND;TZID=Europe/Berlin:20260219T113000
UID:2614208-20260219T100000@VHSWILHELMSHAVEN
SUMMARY:Englisch - Konversation B1/ B2 (2614208) 
LOCATION:Hans Beutz Haus, Virchowstraße 29; Raum 221, Virchowstraße 29, 26382 Wilhelmshaven
END:VEVENT
BEGIN:VEVENT
DTSTAMP:20260419T145605
DTSTART;TZID=Europe/Berlin:20260226T100000
DTEND;TZID=Europe/Berlin:20260226T113000
UID:2614208-20260226T100000@VHSWILHELMSHAVEN
SUMMARY:Englisch - Konversation B1/ B2 (2614208) 
LOCATION:Hans Beutz Haus, Virchowstraße 29; Raum 221, Virchowstraße 29, 26382 Wilhelmshaven
END:VEVENT
BEGIN:VEVENT
DTSTAMP:20260419T145605
DTSTART;TZID=Europe/Berlin:20260305T100000
DTEND;TZID=Europe/Berlin:20260305T113000
UID:2614208-20260305T100000@VHSWILHELMSHAVEN
SUMMARY:Englisch - Konversation B1/ B2 (2614208) 
LOCATION:Hans Beutz Haus, Virchowstraße 29; Raum 102, Virchowstraße 29, 26382 Wilhelmshaven
END:VEVENT
BEGIN:VEVENT
DTSTAMP:20260419T145605
DTSTART;TZID=Europe/Berlin:20260312T100000
DTEND;TZID=Europe/Berlin:20260312T113000
UID:2614208-20260312T100000@VHSWILHELMSHAVEN
SUMMARY:Englisch - Konversation B1/ B2 (2614208) 
LOCATION:Hans Beutz Haus, Virchowstraße 29; Raum 221, Virchowstraße 29, 26382 Wilhelmshaven
END:VEVENT
BEGIN:VEVENT
DTSTAMP:20260419T145605
DTSTART;TZID=Europe/Berlin:20260319T100000
DTEND;TZID=Europe/Berlin:20260319T113000
UID:2614208-20260319T100000@VHSWILHELMSHAVEN
SUMMARY:Englisch - Konversation B1/ B2 (2614208) 
LOCATION:Hans Beutz Haus, Virchowstraße 29; Raum 011, Virchowstraße 29, 26382 Wilhelmshaven
END:VEVENT
BEGIN:VEVENT
DTSTAMP:20260419T145605
DTSTART;TZID=Europe/Berlin:20260409T100000
DTEND;TZID=Europe/Berlin:20260409T113000
UID:2614208-20260409T100000@VHSWILHELMSHAVEN
SUMMARY:Englisch - Konversation B1/ B2 (2614208) 
LOCATION:Hans Beutz Haus, Virchowstraße 29; Raum 102, Virchowstraße 29, 26382 Wilhelmshaven
END:VEVENT
BEGIN:VEVENT
DTSTAMP:20260419T145605
DTSTART;TZID=Europe/Berlin:20260416T100000
DTEND;TZID=Europe/Berlin:20260416T113000
UID:2614208-20260416T100000@VHSWILHELMSHAVEN
SUMMARY:Englisch - Konversation B1/ B2 (2614208) 
LOCATION:Hans Beutz Haus, Virchowstraße 29; Raum 114A, Virchowstraße 29, 26382 Wilhelmshaven
END:VEVENT
BEGIN:VEVENT
DTSTAMP:20260419T145605
DTSTART;TZID=Europe/Berlin:20260423T100000
DTEND;TZID=Europe/Berlin:20260423T113000
UID:2614208-20260423T100000@VHSWILHELMSHAVEN
SUMMARY:Englisch - Konversation B1/ B2 (2614208) 
LOCATION:Hans Beutz Haus, Virchowstraße 29; Raum 221, Virchowstraße 29, 26382 Wilhelmshaven
END:VEVENT
BEGIN:VEVENT
DTSTAMP:20260419T145605
DTSTART;TZID=Europe/Berlin:20260430T100000
DTEND;TZID=Europe/Berlin:20260430T113000
UID:2614208-20260430T100000@VHSWILHELMSHAVEN
SUMMARY:Englisch - Konversation B1/ B2 (2614208) 
LOCATION:Hans Beutz Haus, Virchowstraße 29; Raum 221, Virchowstraße 29, 26382 Wilhelmshaven
END:VEVENT
BEGIN:VEVENT
DTSTAMP:20260419T145605
DTSTART;TZID=Europe/Berlin:20260507T100000
DTEND;TZID=Europe/Berlin:20260507T113000
UID:2614208-20260507T100000@VHSWILHELMSHAVEN
SUMMARY:Englisch - Konversation B1/ B2 (2614208) 
LOCATION:Hans Beutz Haus, Virchowstraße 29; Raum 221, Virchowstraße 29, 26382 Wilhelmshaven
END:VEVENT
BEGIN:VEVENT
DTSTAMP:20260419T145605
DTSTART;TZID=Europe/Berlin:20260521T100000
DTEND;TZID=Europe/Berlin:20260521T113000
UID:2614208-20260521T100000@VHSWILHELMSHAVEN
SUMMARY:Englisch - Konversation B1/ B2 (2614208) 
LOCATION:Hans Beutz Haus, Virchowstraße 29; Raum 221, Virchowstraße 29, 26382 Wilhelmshaven
END:VEVENT
END:VCALENDAR