BEGIN:VCALENDAR
PRODID:http://www.kufer.de/kuferweb / DE
VERSION:2.0
METHOD:PUBLISH
CALSCALE:GREGORIAN
X-WR-TIMEZONE:Europe/Berlin
BEGIN:VTIMEZONE
TZID:Europe/Berlin
X-LIC-LOCATION:Europe/Berlin
BEGIN:DAYLIGHT
TZOFFSETFROM:+0100
TZOFFSETTO:+0200
TZNAME:CEST
DTSTART;TZID=Europe/Berlin:19700329T020000
RRULE:FREQ=YEARLY;INTERVAL=1;BYDAY=-1SU;BYMONTH=3
END:DAYLIGHT
BEGIN:STANDARD
TZOFFSETFROM:+0200
TZOFFSETTO:+0100
TZNAME:CET
DTSTART;TZID=Europe/Berlin:19701025T030000
RRULE:FREQ=YEARLY;INTERVAL=1;BYDAY=-1SU;BYMONTH=10
END:STANDARD
END:VTIMEZONE
BEGIN:VEVENT
DTSTAMP:20260421T105443
DTSTART;TZID=Europe/Berlin:20260413T174500
DTEND;TZID=Europe/Berlin:20260413T191500
UID:2614092-20260413T174500@VHSWILHELMSHAVEN
SUMMARY:Deutsch als Fremdsprache, Spezialkurs Deutsch für Ukrainer*innen (2614092) 
LOCATION:Hans Beutz Haus, Virchowstraße 29; Raum 114, Virchowstraße 29, 26382 Wilhelmshaven
END:VEVENT
BEGIN:VEVENT
DTSTAMP:20260421T105443
DTSTART;TZID=Europe/Berlin:20260416T174500
DTEND;TZID=Europe/Berlin:20260416T191500
UID:2614092-20260416T174500@VHSWILHELMSHAVEN
SUMMARY:Deutsch als Fremdsprache, Spezialkurs Deutsch für Ukrainer*innen (2614092) 
LOCATION:Hans Beutz Haus, Virchowstraße 29; Raum 114, Virchowstraße 29, 26382 Wilhelmshaven
END:VEVENT
BEGIN:VEVENT
DTSTAMP:20260421T105443
DTSTART;TZID=Europe/Berlin:20260420T174500
DTEND;TZID=Europe/Berlin:20260420T191500
UID:2614092-20260420T174500@VHSWILHELMSHAVEN
SUMMARY:Deutsch als Fremdsprache, Spezialkurs Deutsch für Ukrainer*innen (2614092) 
LOCATION:Hans Beutz Haus, Virchowstraße 29; Raum 114, Virchowstraße 29, 26382 Wilhelmshaven
END:VEVENT
BEGIN:VEVENT
DTSTAMP:20260421T105443
DTSTART;TZID=Europe/Berlin:20260423T174500
DTEND;TZID=Europe/Berlin:20260423T191500
UID:2614092-20260423T174500@VHSWILHELMSHAVEN
SUMMARY:Deutsch als Fremdsprache, Spezialkurs Deutsch für Ukrainer*innen (2614092) 
LOCATION:Hans Beutz Haus, Virchowstraße 29; Raum 114, Virchowstraße 29, 26382 Wilhelmshaven
END:VEVENT
BEGIN:VEVENT
DTSTAMP:20260421T105443
DTSTART;TZID=Europe/Berlin:20260427T174500
DTEND;TZID=Europe/Berlin:20260427T191500
UID:2614092-20260427T174500@VHSWILHELMSHAVEN
SUMMARY:Deutsch als Fremdsprache, Spezialkurs Deutsch für Ukrainer*innen (2614092) 
LOCATION:Hans Beutz Haus, Virchowstraße 29; Raum 114, Virchowstraße 29, 26382 Wilhelmshaven
END:VEVENT
BEGIN:VEVENT
DTSTAMP:20260421T105443
DTSTART;TZID=Europe/Berlin:20260430T174500
DTEND;TZID=Europe/Berlin:20260430T191500
UID:2614092-20260430T174500@VHSWILHELMSHAVEN
SUMMARY:Deutsch als Fremdsprache, Spezialkurs Deutsch für Ukrainer*innen (2614092) 
LOCATION:Hans Beutz Haus, Virchowstraße 29; Raum 114, Virchowstraße 29, 26382 Wilhelmshaven
END:VEVENT
BEGIN:VEVENT
DTSTAMP:20260421T105443
DTSTART;TZID=Europe/Berlin:20260504T174500
DTEND;TZID=Europe/Berlin:20260504T191500
UID:2614092-20260504T174500@VHSWILHELMSHAVEN
SUMMARY:Deutsch als Fremdsprache, Spezialkurs Deutsch für Ukrainer*innen (2614092) 
LOCATION:Hans Beutz Haus, Virchowstraße 29; Raum 114, Virchowstraße 29, 26382 Wilhelmshaven
END:VEVENT
BEGIN:VEVENT
DTSTAMP:20260421T105443
DTSTART;TZID=Europe/Berlin:20260507T174500
DTEND;TZID=Europe/Berlin:20260507T191500
UID:2614092-20260507T174500@VHSWILHELMSHAVEN
SUMMARY:Deutsch als Fremdsprache, Spezialkurs Deutsch für Ukrainer*innen (2614092) 
LOCATION:Hans Beutz Haus, Virchowstraße 29; Raum 114, Virchowstraße 29, 26382 Wilhelmshaven
END:VEVENT
BEGIN:VEVENT
DTSTAMP:20260421T105443
DTSTART;TZID=Europe/Berlin:20260511T174500
DTEND;TZID=Europe/Berlin:20260511T191500
UID:2614092-20260511T174500@VHSWILHELMSHAVEN
SUMMARY:Deutsch als Fremdsprache, Spezialkurs Deutsch für Ukrainer*innen (2614092) 
LOCATION:Hans Beutz Haus, Virchowstraße 29; Raum 114, Virchowstraße 29, 26382 Wilhelmshaven
END:VEVENT
BEGIN:VEVENT
DTSTAMP:20260421T105443
DTSTART;TZID=Europe/Berlin:20260518T174500
DTEND;TZID=Europe/Berlin:20260518T191500
UID:2614092-20260518T174500@VHSWILHELMSHAVEN
SUMMARY:Deutsch als Fremdsprache, Spezialkurs Deutsch für Ukrainer*innen (2614092) 
LOCATION:Hans Beutz Haus, Virchowstraße 29; Raum 114, Virchowstraße 29, 26382 Wilhelmshaven
END:VEVENT
BEGIN:VEVENT
DTSTAMP:20260421T105443
DTSTART;TZID=Europe/Berlin:20260521T174500
DTEND;TZID=Europe/Berlin:20260521T191500
UID:2614092-20260521T174500@VHSWILHELMSHAVEN
SUMMARY:Deutsch als Fremdsprache, Spezialkurs Deutsch für Ukrainer*innen (2614092) 
LOCATION:Hans Beutz Haus, Virchowstraße 29; Raum 114, Virchowstraße 29, 26382 Wilhelmshaven
END:VEVENT
BEGIN:VEVENT
DTSTAMP:20260421T105443
DTSTART;TZID=Europe/Berlin:20260528T174500
DTEND;TZID=Europe/Berlin:20260528T191500
UID:2614092-20260528T174500@VHSWILHELMSHAVEN
SUMMARY:Deutsch als Fremdsprache, Spezialkurs Deutsch für Ukrainer*innen (2614092) 
LOCATION:Hans Beutz Haus, Virchowstraße 29; Raum 114, Virchowstraße 29, 26382 Wilhelmshaven
END:VEVENT
BEGIN:VEVENT
DTSTAMP:20260421T105443
DTSTART;TZID=Europe/Berlin:20260601T174500
DTEND;TZID=Europe/Berlin:20260601T191500
UID:2614092-20260601T174500@VHSWILHELMSHAVEN
SUMMARY:Deutsch als Fremdsprache, Spezialkurs Deutsch für Ukrainer*innen (2614092) 
LOCATION:Hans Beutz Haus, Virchowstraße 29; Raum 114, Virchowstraße 29, 26382 Wilhelmshaven
END:VEVENT
BEGIN:VEVENT
DTSTAMP:20260421T105443
DTSTART;TZID=Europe/Berlin:20260604T174500
DTEND;TZID=Europe/Berlin:20260604T191500
UID:2614092-20260604T174500@VHSWILHELMSHAVEN
SUMMARY:Deutsch als Fremdsprache, Spezialkurs Deutsch für Ukrainer*innen (2614092) 
LOCATION:Hans Beutz Haus, Virchowstraße 29; Raum 114, Virchowstraße 29, 26382 Wilhelmshaven
END:VEVENT
BEGIN:VEVENT
DTSTAMP:20260421T105443
DTSTART;TZID=Europe/Berlin:20260608T174500
DTEND;TZID=Europe/Berlin:20260608T191500
UID:2614092-20260608T174500@VHSWILHELMSHAVEN
SUMMARY:Deutsch als Fremdsprache, Spezialkurs Deutsch für Ukrainer*innen (2614092) 
LOCATION:Hans Beutz Haus, Virchowstraße 29; Raum 114, Virchowstraße 29, 26382 Wilhelmshaven
END:VEVENT
BEGIN:VEVENT
DTSTAMP:20260421T105443
DTSTART;TZID=Europe/Berlin:20260611T174500
DTEND;TZID=Europe/Berlin:20260611T191500
UID:2614092-20260611T174500@VHSWILHELMSHAVEN
SUMMARY:Deutsch als Fremdsprache, Spezialkurs Deutsch für Ukrainer*innen (2614092) 
LOCATION:Hans Beutz Haus, Virchowstraße 29; Raum 114, Virchowstraße 29, 26382 Wilhelmshaven
END:VEVENT
BEGIN:VEVENT
DTSTAMP:20260421T105443
DTSTART;TZID=Europe/Berlin:20260615T174500
DTEND;TZID=Europe/Berlin:20260615T191500
UID:2614092-20260615T174500@VHSWILHELMSHAVEN
SUMMARY:Deutsch als Fremdsprache, Spezialkurs Deutsch für Ukrainer*innen (2614092) 
LOCATION:Hans Beutz Haus, Virchowstraße 29; Raum 114, Virchowstraße 29, 26382 Wilhelmshaven
END:VEVENT
BEGIN:VEVENT
DTSTAMP:20260421T105443
DTSTART;TZID=Europe/Berlin:20260618T174500
DTEND;TZID=Europe/Berlin:20260618T191500
UID:2614092-20260618T174500@VHSWILHELMSHAVEN
SUMMARY:Deutsch als Fremdsprache, Spezialkurs Deutsch für Ukrainer*innen (2614092) 
LOCATION:Hans Beutz Haus, Virchowstraße 29; Raum 114, Virchowstraße 29, 26382 Wilhelmshaven
END:VEVENT
BEGIN:VEVENT
DTSTAMP:20260421T105443
DTSTART;TZID=Europe/Berlin:20260622T174500
DTEND;TZID=Europe/Berlin:20260622T191500
UID:2614092-20260622T174500@VHSWILHELMSHAVEN
SUMMARY:Deutsch als Fremdsprache, Spezialkurs Deutsch für Ukrainer*innen (2614092) 
LOCATION:Hans Beutz Haus, Virchowstraße 29; Raum 114, Virchowstraße 29, 26382 Wilhelmshaven
END:VEVENT
BEGIN:VEVENT
DTSTAMP:20260421T105443
DTSTART;TZID=Europe/Berlin:20260625T174500
DTEND;TZID=Europe/Berlin:20260625T191500
UID:2614092-20260625T174500@VHSWILHELMSHAVEN
SUMMARY:Deutsch als Fremdsprache, Spezialkurs Deutsch für Ukrainer*innen (2614092) 
LOCATION:Hans Beutz Haus, Virchowstraße 29; Raum 114, Virchowstraße 29, 26382 Wilhelmshaven
END:VEVENT
BEGIN:VEVENT
DTSTAMP:20260421T105443
DTSTART;TZID=Europe/Berlin:20260629T174500
DTEND;TZID=Europe/Berlin:20260629T191500
UID:2614092-20260629T174500@VHSWILHELMSHAVEN
SUMMARY:Deutsch als Fremdsprache, Spezialkurs Deutsch für Ukrainer*innen (2614092) 
LOCATION:Hans Beutz Haus, Virchowstraße 29; Raum 114, Virchowstraße 29, 26382 Wilhelmshaven
END:VEVENT
BEGIN:VEVENT
DTSTAMP:20260421T105443
DTSTART;TZID=Europe/Berlin:20260702T174500
DTEND;TZID=Europe/Berlin:20260702T191500
UID:2614092-20260702T174500@VHSWILHELMSHAVEN
SUMMARY:Deutsch als Fremdsprache, Spezialkurs Deutsch für Ukrainer*innen (2614092) 
LOCATION:Hans Beutz Haus, Virchowstraße 29; Raum 114, Virchowstraße 29, 26382 Wilhelmshaven
END:VEVENT
BEGIN:VEVENT
DTSTAMP:20260421T105443
DTSTART;TZID=Europe/Berlin:20260706T174500
DTEND;TZID=Europe/Berlin:20260706T191500
UID:2614092-20260706T174500@VHSWILHELMSHAVEN
SUMMARY:Deutsch als Fremdsprache, Spezialkurs Deutsch für Ukrainer*innen (2614092) 
LOCATION:Hans Beutz Haus, Virchowstraße 29; Raum 114, Virchowstraße 29, 26382 Wilhelmshaven
END:VEVENT
BEGIN:VEVENT
DTSTAMP:20260421T105443
DTSTART;TZID=Europe/Berlin:20260709T174500
DTEND;TZID=Europe/Berlin:20260709T191500
UID:2614092-20260709T174500@VHSWILHELMSHAVEN
SUMMARY:Deutsch als Fremdsprache, Spezialkurs Deutsch für Ukrainer*innen (2614092) 
LOCATION:Hans Beutz Haus, Virchowstraße 29; Raum 114, Virchowstraße 29, 26382 Wilhelmshaven
END:VEVENT
BEGIN:VEVENT
DTSTAMP:20260421T105443
DTSTART;TZID=Europe/Berlin:20260713T174500
DTEND;TZID=Europe/Berlin:20260713T191500
UID:2614092-20260713T174500@VHSWILHELMSHAVEN
SUMMARY:Deutsch als Fremdsprache, Spezialkurs Deutsch für Ukrainer*innen (2614092) 
LOCATION:Hans Beutz Haus, Virchowstraße 29; Raum 114, Virchowstraße 29, 26382 Wilhelmshaven
END:VEVENT
END:VCALENDAR