BEGIN:VCALENDAR
PRODID:http://www.kufer.de/kuferweb / DE
VERSION:2.0
METHOD:PUBLISH
CALSCALE:GREGORIAN
X-WR-TIMEZONE:Europe/Berlin
BEGIN:VTIMEZONE
TZID:Europe/Berlin
X-LIC-LOCATION:Europe/Berlin
BEGIN:DAYLIGHT
TZOFFSETFROM:+0100
TZOFFSETTO:+0200
TZNAME:CEST
DTSTART;TZID=Europe/Berlin:19700329T020000
RRULE:FREQ=YEARLY;INTERVAL=1;BYDAY=-1SU;BYMONTH=3
END:DAYLIGHT
BEGIN:STANDARD
TZOFFSETFROM:+0200
TZOFFSETTO:+0100
TZNAME:CET
DTSTART;TZID=Europe/Berlin:19701025T030000
RRULE:FREQ=YEARLY;INTERVAL=1;BYDAY=-1SU;BYMONTH=10
END:STANDARD
END:VTIMEZONE
BEGIN:VEVENT
DTSTAMP:20260423T153511
DTSTART;TZID=Europe/Berlin:20260504T153000
DTEND;TZID=Europe/Berlin:20260504T163000
UID:2613441-20260504T153000@VHSWILHELMSHAVEN
SUMMARY:Yoga mit dem Stuhl für Anfänger*innen (2613441) 
LOCATION:Projekthaus Schellingstraße 19; Raum 109 (Entspannungsraum), Schellingstraße 19, 26384 Wilhelmshaven
END:VEVENT
BEGIN:VEVENT
DTSTAMP:20260423T153511
DTSTART;TZID=Europe/Berlin:20260518T153000
DTEND;TZID=Europe/Berlin:20260518T163000
UID:2613441-20260518T153000@VHSWILHELMSHAVEN
SUMMARY:Yoga mit dem Stuhl für Anfänger*innen (2613441) 
LOCATION:Projekthaus Schellingstraße 19; Raum 109 (Entspannungsraum), Schellingstraße 19, 26384 Wilhelmshaven
END:VEVENT
BEGIN:VEVENT
DTSTAMP:20260423T153511
DTSTART;TZID=Europe/Berlin:20260601T153000
DTEND;TZID=Europe/Berlin:20260601T163000
UID:2613441-20260601T153000@VHSWILHELMSHAVEN
SUMMARY:Yoga mit dem Stuhl für Anfänger*innen (2613441) 
LOCATION:Projekthaus Schellingstraße 19; Raum 109 (Entspannungsraum), Schellingstraße 19, 26384 Wilhelmshaven
END:VEVENT
BEGIN:VEVENT
DTSTAMP:20260423T153511
DTSTART;TZID=Europe/Berlin:20260608T153000
DTEND;TZID=Europe/Berlin:20260608T163000
UID:2613441-20260608T153000@VHSWILHELMSHAVEN
SUMMARY:Yoga mit dem Stuhl für Anfänger*innen (2613441) 
LOCATION:Projekthaus Schellingstraße 19; Raum 109 (Entspannungsraum), Schellingstraße 19, 26384 Wilhelmshaven
END:VEVENT
BEGIN:VEVENT
DTSTAMP:20260423T153511
DTSTART;TZID=Europe/Berlin:20260615T153000
DTEND;TZID=Europe/Berlin:20260615T163000
UID:2613441-20260615T153000@VHSWILHELMSHAVEN
SUMMARY:Yoga mit dem Stuhl für Anfänger*innen (2613441) 
LOCATION:Projekthaus Schellingstraße 19; Raum 109 (Entspannungsraum), Schellingstraße 19, 26384 Wilhelmshaven
END:VEVENT
BEGIN:VEVENT
DTSTAMP:20260423T153511
DTSTART;TZID=Europe/Berlin:20260622T153000
DTEND;TZID=Europe/Berlin:20260622T163000
UID:2613441-20260622T153000@VHSWILHELMSHAVEN
SUMMARY:Yoga mit dem Stuhl für Anfänger*innen (2613441) 
LOCATION:Projekthaus Schellingstraße 19; Raum 109 (Entspannungsraum), Schellingstraße 19, 26384 Wilhelmshaven
END:VEVENT
BEGIN:VEVENT
DTSTAMP:20260423T153511
DTSTART;TZID=Europe/Berlin:20260629T153000
DTEND;TZID=Europe/Berlin:20260629T163000
UID:2613441-20260629T153000@VHSWILHELMSHAVEN
SUMMARY:Yoga mit dem Stuhl für Anfänger*innen (2613441) 
LOCATION:Projekthaus Schellingstraße 19; Raum 109 (Entspannungsraum), Schellingstraße 19, 26384 Wilhelmshaven
END:VEVENT
END:VCALENDAR