BEGIN:VCALENDAR
PRODID:http://www.kufer.de/kuferweb / DE
VERSION:2.0
METHOD:PUBLISH
CALSCALE:GREGORIAN
X-WR-TIMEZONE:Europe/Berlin
BEGIN:VTIMEZONE
TZID:Europe/Berlin
X-LIC-LOCATION:Europe/Berlin
BEGIN:DAYLIGHT
TZOFFSETFROM:+0100
TZOFFSETTO:+0200
TZNAME:CEST
DTSTART;TZID=Europe/Berlin:19700329T020000
RRULE:FREQ=YEARLY;INTERVAL=1;BYDAY=-1SU;BYMONTH=3
END:DAYLIGHT
BEGIN:STANDARD
TZOFFSETFROM:+0200
TZOFFSETTO:+0100
TZNAME:CET
DTSTART;TZID=Europe/Berlin:19701025T030000
RRULE:FREQ=YEARLY;INTERVAL=1;BYDAY=-1SU;BYMONTH=10
END:STANDARD
END:VTIMEZONE
BEGIN:VEVENT
DTSTAMP:20260419T202814
DTSTART;TZID=Europe/Berlin:20260204T170000
DTEND;TZID=Europe/Berlin:20260204T180000
UID:2613339B-20260204T170000@VHSWILHELMSHAVEN
SUMMARY:Fitness am Nachmittag Geölte Gelenke und geschmeidige Muskeln (2613339B) 
LOCATION:Projekthaus Schellingstraße 19; Raum 026 (Gymnastikraum/Spiegel), Schellingstraße 19, 26384 Wilhelmshaven
END:VEVENT
BEGIN:VEVENT
DTSTAMP:20260419T202814
DTSTART;TZID=Europe/Berlin:20260211T170000
DTEND;TZID=Europe/Berlin:20260211T180000
UID:2613339B-20260211T170000@VHSWILHELMSHAVEN
SUMMARY:Fitness am Nachmittag Geölte Gelenke und geschmeidige Muskeln (2613339B) 
LOCATION:Projekthaus Schellingstraße 19; Raum 026 (Gymnastikraum/Spiegel), Schellingstraße 19, 26384 Wilhelmshaven
END:VEVENT
BEGIN:VEVENT
DTSTAMP:20260419T202814
DTSTART;TZID=Europe/Berlin:20260225T170000
DTEND;TZID=Europe/Berlin:20260225T180000
UID:2613339B-20260225T170000@VHSWILHELMSHAVEN
SUMMARY:Fitness am Nachmittag Geölte Gelenke und geschmeidige Muskeln (2613339B) 
LOCATION:Projekthaus Schellingstraße 19; Raum 026 (Gymnastikraum/Spiegel), Schellingstraße 19, 26384 Wilhelmshaven
END:VEVENT
BEGIN:VEVENT
DTSTAMP:20260419T202814
DTSTART;TZID=Europe/Berlin:20260304T170000
DTEND;TZID=Europe/Berlin:20260304T180000
UID:2613339B-20260304T170000@VHSWILHELMSHAVEN
SUMMARY:Fitness am Nachmittag Geölte Gelenke und geschmeidige Muskeln (2613339B) 
LOCATION:Projekthaus Schellingstraße 19; Raum 026 (Gymnastikraum/Spiegel), Schellingstraße 19, 26384 Wilhelmshaven
END:VEVENT
BEGIN:VEVENT
DTSTAMP:20260419T202814
DTSTART;TZID=Europe/Berlin:20260311T170000
DTEND;TZID=Europe/Berlin:20260311T180000
UID:2613339B-20260311T170000@VHSWILHELMSHAVEN
SUMMARY:Fitness am Nachmittag Geölte Gelenke und geschmeidige Muskeln (2613339B) 
LOCATION:Projekthaus Schellingstraße 19; Raum 026 (Gymnastikraum/Spiegel), Schellingstraße 19, 26384 Wilhelmshaven
END:VEVENT
BEGIN:VEVENT
DTSTAMP:20260419T202814
DTSTART;TZID=Europe/Berlin:20260318T170000
DTEND;TZID=Europe/Berlin:20260318T180000
UID:2613339B-20260318T170000@VHSWILHELMSHAVEN
SUMMARY:Fitness am Nachmittag Geölte Gelenke und geschmeidige Muskeln (2613339B) 
LOCATION:Projekthaus Schellingstraße 19; Raum 026 (Gymnastikraum/Spiegel), Schellingstraße 19, 26384 Wilhelmshaven
END:VEVENT
BEGIN:VEVENT
DTSTAMP:20260419T202814
DTSTART;TZID=Europe/Berlin:20260325T170000
DTEND;TZID=Europe/Berlin:20260325T180000
UID:2613339B-20260325T170000@VHSWILHELMSHAVEN
SUMMARY:Fitness am Nachmittag Geölte Gelenke und geschmeidige Muskeln (2613339B) 
LOCATION:Projekthaus Schellingstraße 19; Raum 026 (Gymnastikraum/Spiegel), Schellingstraße 19, 26384 Wilhelmshaven
END:VEVENT
BEGIN:VEVENT
DTSTAMP:20260419T202814
DTSTART;TZID=Europe/Berlin:20260408T170000
DTEND;TZID=Europe/Berlin:20260408T180000
UID:2613339B-20260408T170000@VHSWILHELMSHAVEN
SUMMARY:Fitness am Nachmittag Geölte Gelenke und geschmeidige Muskeln (2613339B) 
LOCATION:Projekthaus Schellingstraße 19; Raum 026 (Gymnastikraum/Spiegel), Schellingstraße 19, 26384 Wilhelmshaven
END:VEVENT
BEGIN:VEVENT
DTSTAMP:20260419T202814
DTSTART;TZID=Europe/Berlin:20260415T170000
DTEND;TZID=Europe/Berlin:20260415T180000
UID:2613339B-20260415T170000@VHSWILHELMSHAVEN
SUMMARY:Fitness am Nachmittag Geölte Gelenke und geschmeidige Muskeln (2613339B) 
LOCATION:Projekthaus Schellingstraße 19; Raum 026 (Gymnastikraum/Spiegel), Schellingstraße 19, 26384 Wilhelmshaven
END:VEVENT
BEGIN:VEVENT
DTSTAMP:20260419T202814
DTSTART;TZID=Europe/Berlin:20260422T170000
DTEND;TZID=Europe/Berlin:20260422T180000
UID:2613339B-20260422T170000@VHSWILHELMSHAVEN
SUMMARY:Fitness am Nachmittag Geölte Gelenke und geschmeidige Muskeln (2613339B) 
LOCATION:Projekthaus Schellingstraße 19; Raum 026 (Gymnastikraum/Spiegel), Schellingstraße 19, 26384 Wilhelmshaven
END:VEVENT
BEGIN:VEVENT
DTSTAMP:20260419T202814
DTSTART;TZID=Europe/Berlin:20260429T170000
DTEND;TZID=Europe/Berlin:20260429T180000
UID:2613339B-20260429T170000@VHSWILHELMSHAVEN
SUMMARY:Fitness am Nachmittag Geölte Gelenke und geschmeidige Muskeln (2613339B) 
LOCATION:Projekthaus Schellingstraße 19; Raum 026 (Gymnastikraum/Spiegel), Schellingstraße 19, 26384 Wilhelmshaven
END:VEVENT
BEGIN:VEVENT
DTSTAMP:20260419T202814
DTSTART;TZID=Europe/Berlin:20260506T170000
DTEND;TZID=Europe/Berlin:20260506T180000
UID:2613339B-20260506T170000@VHSWILHELMSHAVEN
SUMMARY:Fitness am Nachmittag Geölte Gelenke und geschmeidige Muskeln (2613339B) 
LOCATION:Projekthaus Schellingstraße 19; Raum 026 (Gymnastikraum/Spiegel), Schellingstraße 19, 26384 Wilhelmshaven
END:VEVENT
BEGIN:VEVENT
DTSTAMP:20260419T202814
DTSTART;TZID=Europe/Berlin:20260513T170000
DTEND;TZID=Europe/Berlin:20260513T180000
UID:2613339B-20260513T170000@VHSWILHELMSHAVEN
SUMMARY:Fitness am Nachmittag Geölte Gelenke und geschmeidige Muskeln (2613339B) 
LOCATION:Projekthaus Schellingstraße 19; Raum 026 (Gymnastikraum/Spiegel), Schellingstraße 19, 26384 Wilhelmshaven
END:VEVENT
BEGIN:VEVENT
DTSTAMP:20260419T202814
DTSTART;TZID=Europe/Berlin:20260520T170000
DTEND;TZID=Europe/Berlin:20260520T180000
UID:2613339B-20260520T170000@VHSWILHELMSHAVEN
SUMMARY:Fitness am Nachmittag Geölte Gelenke und geschmeidige Muskeln (2613339B) 
LOCATION:Projekthaus Schellingstraße 19; Raum 026 (Gymnastikraum/Spiegel), Schellingstraße 19, 26384 Wilhelmshaven
END:VEVENT
BEGIN:VEVENT
DTSTAMP:20260419T202814
DTSTART;TZID=Europe/Berlin:20260527T170000
DTEND;TZID=Europe/Berlin:20260527T180000
UID:2613339B-20260527T170000@VHSWILHELMSHAVEN
SUMMARY:Fitness am Nachmittag Geölte Gelenke und geschmeidige Muskeln (2613339B) 
LOCATION:Projekthaus Schellingstraße 19; Raum 026 (Gymnastikraum/Spiegel), Schellingstraße 19, 26384 Wilhelmshaven
END:VEVENT
BEGIN:VEVENT
DTSTAMP:20260419T202814
DTSTART;TZID=Europe/Berlin:20260603T170000
DTEND;TZID=Europe/Berlin:20260603T180000
UID:2613339B-20260603T170000@VHSWILHELMSHAVEN
SUMMARY:Fitness am Nachmittag Geölte Gelenke und geschmeidige Muskeln (2613339B) 
LOCATION:Projekthaus Schellingstraße 19; Raum 026 (Gymnastikraum/Spiegel), Schellingstraße 19, 26384 Wilhelmshaven
END:VEVENT
BEGIN:VEVENT
DTSTAMP:20260419T202814
DTSTART;TZID=Europe/Berlin:20260610T170000
DTEND;TZID=Europe/Berlin:20260610T180000
UID:2613339B-20260610T170000@VHSWILHELMSHAVEN
SUMMARY:Fitness am Nachmittag Geölte Gelenke und geschmeidige Muskeln (2613339B) 
LOCATION:Projekthaus Schellingstraße 19; Raum 026 (Gymnastikraum/Spiegel), Schellingstraße 19, 26384 Wilhelmshaven
END:VEVENT
BEGIN:VEVENT
DTSTAMP:20260419T202814
DTSTART;TZID=Europe/Berlin:20260617T170000
DTEND;TZID=Europe/Berlin:20260617T180000
UID:2613339B-20260617T170000@VHSWILHELMSHAVEN
SUMMARY:Fitness am Nachmittag Geölte Gelenke und geschmeidige Muskeln (2613339B) 
LOCATION:Projekthaus Schellingstraße 19; Raum 026 (Gymnastikraum/Spiegel), Schellingstraße 19, 26384 Wilhelmshaven
END:VEVENT
BEGIN:VEVENT
DTSTAMP:20260419T202814
DTSTART;TZID=Europe/Berlin:20260624T170000
DTEND;TZID=Europe/Berlin:20260624T180000
UID:2613339B-20260624T170000@VHSWILHELMSHAVEN
SUMMARY:Fitness am Nachmittag Geölte Gelenke und geschmeidige Muskeln (2613339B) 
LOCATION:Projekthaus Schellingstraße 19; Raum 026 (Gymnastikraum/Spiegel), Schellingstraße 19, 26384 Wilhelmshaven
END:VEVENT
BEGIN:VEVENT
DTSTAMP:20260419T202814
DTSTART;TZID=Europe/Berlin:20260701T170000
DTEND;TZID=Europe/Berlin:20260701T180000
UID:2613339B-20260701T170000@VHSWILHELMSHAVEN
SUMMARY:Fitness am Nachmittag Geölte Gelenke und geschmeidige Muskeln (2613339B) 
LOCATION:Projekthaus Schellingstraße 19; Raum 026 (Gymnastikraum/Spiegel), Schellingstraße 19, 26384 Wilhelmshaven
END:VEVENT
END:VCALENDAR