BEGIN:VCALENDAR
PRODID:http://www.kufer.de/kuferweb / DE
VERSION:2.0
METHOD:PUBLISH
CALSCALE:GREGORIAN
X-WR-TIMEZONE:Europe/Berlin
BEGIN:VTIMEZONE
TZID:Europe/Berlin
X-LIC-LOCATION:Europe/Berlin
BEGIN:DAYLIGHT
TZOFFSETFROM:+0100
TZOFFSETTO:+0200
TZNAME:CEST
DTSTART;TZID=Europe/Berlin:19700329T020000
RRULE:FREQ=YEARLY;INTERVAL=1;BYDAY=-1SU;BYMONTH=3
END:DAYLIGHT
BEGIN:STANDARD
TZOFFSETFROM:+0200
TZOFFSETTO:+0100
TZNAME:CET
DTSTART;TZID=Europe/Berlin:19701025T030000
RRULE:FREQ=YEARLY;INTERVAL=1;BYDAY=-1SU;BYMONTH=10
END:STANDARD
END:VTIMEZONE
BEGIN:VEVENT
DTSTAMP:20260419T145731
DTSTART;TZID=Europe/Berlin:20260616T190000
DTEND;TZID=Europe/Berlin:20260616T203000
UID:2613264-20260616T190000@VHSWILHELMSHAVEN
SUMMARY:Ein Wochenende mit Früchten und Zeit für Zilgrei (2613264) 
LOCATION:Projekthaus Schellingstraße 19; Raum 110 (Entspannungsraum), Schellingstraße 19, 26384 Wilhelmshaven
END:VEVENT
BEGIN:VEVENT
DTSTAMP:20260419T145731
DTSTART;TZID=Europe/Berlin:20260619T180000
DTEND;TZID=Europe/Berlin:20260619T193000
UID:2613264-20260619T180000@VHSWILHELMSHAVEN
SUMMARY:Ein Wochenende mit Früchten und Zeit für Zilgrei (2613264) 
LOCATION:Projekthaus Schellingstraße 19; Raum 110 (Entspannungsraum), Schellingstraße 19, 26384 Wilhelmshaven
END:VEVENT
BEGIN:VEVENT
DTSTAMP:20260419T145731
DTSTART;TZID=Europe/Berlin:20260620T100000
DTEND;TZID=Europe/Berlin:20260620T160000
UID:2613264-20260620T100000@VHSWILHELMSHAVEN
SUMMARY:Ein Wochenende mit Früchten und Zeit für Zilgrei (2613264) 
LOCATION:Projekthaus Schellingstraße 19; Raum 110 (Entspannungsraum), Schellingstraße 19, 26384 Wilhelmshaven
END:VEVENT
BEGIN:VEVENT
DTSTAMP:20260419T145731
DTSTART;TZID=Europe/Berlin:20260621T100000
DTEND;TZID=Europe/Berlin:20260621T143000
UID:2613264-20260621T100000@VHSWILHELMSHAVEN
SUMMARY:Ein Wochenende mit Früchten und Zeit für Zilgrei (2613264) 
LOCATION:Projekthaus Schellingstraße 19; Raum 110 (Entspannungsraum), Schellingstraße 19, 26384 Wilhelmshaven
END:VEVENT
END:VCALENDAR