BEGIN:VCALENDAR
PRODID:http://www.kufer.de/kuferweb / DE
VERSION:2.0
METHOD:PUBLISH
CALSCALE:GREGORIAN
X-WR-TIMEZONE:Europe/Berlin
BEGIN:VTIMEZONE
TZID:Europe/Berlin
X-LIC-LOCATION:Europe/Berlin
BEGIN:DAYLIGHT
TZOFFSETFROM:+0100
TZOFFSETTO:+0200
TZNAME:CEST
DTSTART;TZID=Europe/Berlin:19700329T020000
RRULE:FREQ=YEARLY;INTERVAL=1;BYDAY=-1SU;BYMONTH=3
END:DAYLIGHT
BEGIN:STANDARD
TZOFFSETFROM:+0200
TZOFFSETTO:+0100
TZNAME:CET
DTSTART;TZID=Europe/Berlin:19701025T030000
RRULE:FREQ=YEARLY;INTERVAL=1;BYDAY=-1SU;BYMONTH=10
END:STANDARD
END:VTIMEZONE
BEGIN:VEVENT
DTSTAMP:20260419T183702
DTSTART;TZID=Europe/Berlin:20260516T141500
DTEND;TZID=Europe/Berlin:20260516T164500
UID:2612510-20260516T141500@VHSWILHELMSHAVEN
SUMMARY:Hilfe, ich kann doch gar nicht malen! (2612510) 
LOCATION:Projekthaus Schellingstraße 19; Raum 111 (Kunstraum), Schellingstraße 19, 26384 Wilhelmshaven
END:VEVENT
BEGIN:VEVENT
DTSTAMP:20260419T183702
DTSTART;TZID=Europe/Berlin:20260523T141500
DTEND;TZID=Europe/Berlin:20260523T164500
UID:2612510-20260523T141500@VHSWILHELMSHAVEN
SUMMARY:Hilfe, ich kann doch gar nicht malen! (2612510) 
LOCATION:Projekthaus Schellingstraße 19; Raum 111 (Kunstraum), Schellingstraße 19, 26384 Wilhelmshaven
END:VEVENT
BEGIN:VEVENT
DTSTAMP:20260419T183702
DTSTART;TZID=Europe/Berlin:20260530T141500
DTEND;TZID=Europe/Berlin:20260530T164500
UID:2612510-20260530T141500@VHSWILHELMSHAVEN
SUMMARY:Hilfe, ich kann doch gar nicht malen! (2612510) 
LOCATION:Projekthaus Schellingstraße 19; Raum 111 (Kunstraum), Schellingstraße 19, 26384 Wilhelmshaven
END:VEVENT
BEGIN:VEVENT
DTSTAMP:20260419T183702
DTSTART;TZID=Europe/Berlin:20260606T141500
DTEND;TZID=Europe/Berlin:20260606T164500
UID:2612510-20260606T141500@VHSWILHELMSHAVEN
SUMMARY:Hilfe, ich kann doch gar nicht malen! (2612510) 
LOCATION:Projekthaus Schellingstraße 19; Raum 111 (Kunstraum), Schellingstraße 19, 26384 Wilhelmshaven
END:VEVENT
END:VCALENDAR