BEGIN:VCALENDAR
PRODID:http://www.kufer.de/kuferweb / DE
VERSION:2.0
METHOD:PUBLISH
CALSCALE:GREGORIAN
X-WR-TIMEZONE:Europe/Berlin
BEGIN:VTIMEZONE
TZID:Europe/Berlin
X-LIC-LOCATION:Europe/Berlin
BEGIN:DAYLIGHT
TZOFFSETFROM:+0100
TZOFFSETTO:+0200
TZNAME:CEST
DTSTART;TZID=Europe/Berlin:19700329T020000
RRULE:FREQ=YEARLY;INTERVAL=1;BYDAY=-1SU;BYMONTH=3
END:DAYLIGHT
BEGIN:STANDARD
TZOFFSETFROM:+0200
TZOFFSETTO:+0100
TZNAME:CET
DTSTART;TZID=Europe/Berlin:19701025T030000
RRULE:FREQ=YEARLY;INTERVAL=1;BYDAY=-1SU;BYMONTH=10
END:STANDARD
END:VTIMEZONE
BEGIN:VEVENT
DTSTAMP:20260419T183716
DTSTART;TZID=Europe/Berlin:20260601T180000
DTEND;TZID=Europe/Berlin:20260601T201500
UID:2612406-20260601T180000@VHSWILHELMSHAVEN
SUMMARY:Ich mache mir die Welt.. Outdoor Verrückte Fotografie die begeistert (2612406) 
LOCATION:Hans Beutz Haus, Virchowstraße 29; Raum 114, Virchowstraße 29, 26382 Wilhelmshaven
END:VEVENT
BEGIN:VEVENT
DTSTAMP:20260419T183716
DTSTART;TZID=Europe/Berlin:20260608T180000
DTEND;TZID=Europe/Berlin:20260608T201500
UID:2612406-20260608T180000@VHSWILHELMSHAVEN
SUMMARY:Ich mache mir die Welt.. Outdoor Verrückte Fotografie die begeistert (2612406) 
LOCATION:Hans Beutz Haus, Virchowstraße 29; Raum 114, Virchowstraße 29, 26382 Wilhelmshaven
END:VEVENT
BEGIN:VEVENT
DTSTAMP:20260419T183716
DTSTART;TZID=Europe/Berlin:20260615T180000
DTEND;TZID=Europe/Berlin:20260615T201500
UID:2612406-20260615T180000@VHSWILHELMSHAVEN
SUMMARY:Ich mache mir die Welt.. Outdoor Verrückte Fotografie die begeistert (2612406) 
LOCATION:Hans Beutz Haus, Virchowstraße 29; Raum 114, Virchowstraße 29, 26382 Wilhelmshaven
END:VEVENT
BEGIN:VEVENT
DTSTAMP:20260419T183716
DTSTART;TZID=Europe/Berlin:20260622T180000
DTEND;TZID=Europe/Berlin:20260622T201500
UID:2612406-20260622T180000@VHSWILHELMSHAVEN
SUMMARY:Ich mache mir die Welt.. Outdoor Verrückte Fotografie die begeistert (2612406) 
LOCATION:Hans Beutz Haus, Virchowstraße 29; Raum 114, Virchowstraße 29, 26382 Wilhelmshaven
END:VEVENT
END:VCALENDAR