BEGIN:VCALENDAR
PRODID:http://www.kufer.de/kuferweb / DE
VERSION:2.0
METHOD:PUBLISH
CALSCALE:GREGORIAN
X-WR-TIMEZONE:Europe/Berlin
BEGIN:VTIMEZONE
TZID:Europe/Berlin
X-LIC-LOCATION:Europe/Berlin
BEGIN:DAYLIGHT
TZOFFSETFROM:+0100
TZOFFSETTO:+0200
TZNAME:CEST
DTSTART;TZID=Europe/Berlin:19700329T020000
RRULE:FREQ=YEARLY;INTERVAL=1;BYDAY=-1SU;BYMONTH=3
END:DAYLIGHT
BEGIN:STANDARD
TZOFFSETFROM:+0200
TZOFFSETTO:+0100
TZNAME:CET
DTSTART;TZID=Europe/Berlin:19701025T030000
RRULE:FREQ=YEARLY;INTERVAL=1;BYDAY=-1SU;BYMONTH=10
END:STANDARD
END:VTIMEZONE
BEGIN:VEVENT
DTSTAMP:20260419T150400
DTSTART;TZID=Europe/Berlin:20260204T191500
DTEND;TZID=Europe/Berlin:20260204T213000
UID:2612342-20260204T191500@VHSWILHELMSHAVEN
SUMMARY:Gesamtkunstwerk Theater Theaterwerkstatt für Erwachsene (2612342) 
LOCATION:Projekthaus Schellingstraße 19; Raum 224 (Gymnastik), Schellingstraße 19, 26384 Wilhelmshaven
END:VEVENT
BEGIN:VEVENT
DTSTAMP:20260419T150400
DTSTART;TZID=Europe/Berlin:20260211T191500
DTEND;TZID=Europe/Berlin:20260211T213000
UID:2612342-20260211T191500@VHSWILHELMSHAVEN
SUMMARY:Gesamtkunstwerk Theater Theaterwerkstatt für Erwachsene (2612342) 
LOCATION:Projekthaus Schellingstraße 19; Raum 110 (Entspannungsraum), Schellingstraße 19, 26384 Wilhelmshaven
END:VEVENT
BEGIN:VEVENT
DTSTAMP:20260419T150400
DTSTART;TZID=Europe/Berlin:20260218T191500
DTEND;TZID=Europe/Berlin:20260218T213000
UID:2612342-20260218T191500@VHSWILHELMSHAVEN
SUMMARY:Gesamtkunstwerk Theater Theaterwerkstatt für Erwachsene (2612342) 
LOCATION:Projekthaus Schellingstraße 19; Raum 110 (Entspannungsraum), Schellingstraße 19, 26384 Wilhelmshaven
END:VEVENT
BEGIN:VEVENT
DTSTAMP:20260419T150400
DTSTART;TZID=Europe/Berlin:20260225T191500
DTEND;TZID=Europe/Berlin:20260225T213000
UID:2612342-20260225T191500@VHSWILHELMSHAVEN
SUMMARY:Gesamtkunstwerk Theater Theaterwerkstatt für Erwachsene (2612342) 
LOCATION:Projekthaus Schellingstraße 19; Raum 110 (Entspannungsraum), Schellingstraße 19, 26384 Wilhelmshaven
END:VEVENT
BEGIN:VEVENT
DTSTAMP:20260419T150400
DTSTART;TZID=Europe/Berlin:20260304T191500
DTEND;TZID=Europe/Berlin:20260304T213000
UID:2612342-20260304T191500@VHSWILHELMSHAVEN
SUMMARY:Gesamtkunstwerk Theater Theaterwerkstatt für Erwachsene (2612342) 
LOCATION:Projekthaus Schellingstraße 19; Raum 110 (Entspannungsraum), Schellingstraße 19, 26384 Wilhelmshaven
END:VEVENT
BEGIN:VEVENT
DTSTAMP:20260419T150400
DTSTART;TZID=Europe/Berlin:20260311T191500
DTEND;TZID=Europe/Berlin:20260311T213000
UID:2612342-20260311T191500@VHSWILHELMSHAVEN
SUMMARY:Gesamtkunstwerk Theater Theaterwerkstatt für Erwachsene (2612342) 
LOCATION:Projekthaus Schellingstraße 19; Raum 110 (Entspannungsraum), Schellingstraße 19, 26384 Wilhelmshaven
END:VEVENT
BEGIN:VEVENT
DTSTAMP:20260419T150400
DTSTART;TZID=Europe/Berlin:20260318T191500
DTEND;TZID=Europe/Berlin:20260318T213000
UID:2612342-20260318T191500@VHSWILHELMSHAVEN
SUMMARY:Gesamtkunstwerk Theater Theaterwerkstatt für Erwachsene (2612342) 
LOCATION:Projekthaus Schellingstraße 19; Raum 110 (Entspannungsraum), Schellingstraße 19, 26384 Wilhelmshaven
END:VEVENT
BEGIN:VEVENT
DTSTAMP:20260419T150400
DTSTART;TZID=Europe/Berlin:20260408T191500
DTEND;TZID=Europe/Berlin:20260408T213000
UID:2612342-20260408T191500@VHSWILHELMSHAVEN
SUMMARY:Gesamtkunstwerk Theater Theaterwerkstatt für Erwachsene (2612342) 
LOCATION:Projekthaus Schellingstraße 19; Raum 110 (Entspannungsraum), Schellingstraße 19, 26384 Wilhelmshaven
END:VEVENT
BEGIN:VEVENT
DTSTAMP:20260419T150400
DTSTART;TZID=Europe/Berlin:20260415T191500
DTEND;TZID=Europe/Berlin:20260415T213000
UID:2612342-20260415T191500@VHSWILHELMSHAVEN
DESCRIPTION:Umkleide
SUMMARY:Gesamtkunstwerk Theater Theaterwerkstatt für Erwachsene (2612342) 
LOCATION:Hans Beutz Haus, Virchowstraße 29; Raum 008, Virchowstraße 29, 26382 Wilhelmshaven
END:VEVENT
BEGIN:VEVENT
DTSTAMP:20260419T150400
DTSTART;TZID=Europe/Berlin:20260417T191500
DTEND;TZID=Europe/Berlin:20260417T213000
UID:2612342-20260417T191500@VHSWILHELMSHAVEN
DESCRIPTION:Umkleide
SUMMARY:Gesamtkunstwerk Theater Theaterwerkstatt für Erwachsene (2612342) 
LOCATION:Hans Beutz Haus, Virchowstraße 29; Raum 008, Virchowstraße 29, 26382 Wilhelmshaven
END:VEVENT
BEGIN:VEVENT
DTSTAMP:20260419T150400
DTSTART;TZID=Europe/Berlin:20260422T191500
DTEND;TZID=Europe/Berlin:20260422T213000
UID:2612342-20260422T191500@VHSWILHELMSHAVEN
SUMMARY:Gesamtkunstwerk Theater Theaterwerkstatt für Erwachsene (2612342) 
LOCATION:Projekthaus Schellingstraße 19; Raum 110 (Entspannungsraum), Schellingstraße 19, 26384 Wilhelmshaven
END:VEVENT
BEGIN:VEVENT
DTSTAMP:20260419T150400
DTSTART;TZID=Europe/Berlin:20260429T191500
DTEND;TZID=Europe/Berlin:20260429T213000
UID:2612342-20260429T191500@VHSWILHELMSHAVEN
SUMMARY:Gesamtkunstwerk Theater Theaterwerkstatt für Erwachsene (2612342) 
LOCATION:Projekthaus Schellingstraße 19; Raum 110 (Entspannungsraum), Schellingstraße 19, 26384 Wilhelmshaven
END:VEVENT
END:VCALENDAR